BEGIN:VCALENDAR
VERSION:2.0
PRODID:-//Outside ideas - ECPv6.15.20//NONSGML v1.0//EN
CALSCALE:GREGORIAN
METHOD:PUBLISH
X-ORIGINAL-URL:https://outside-ideas.com
X-WR-CALDESC:Events for Outside ideas
REFRESH-INTERVAL;VALUE=DURATION:PT1H
X-Robots-Tag:noindex
X-PUBLISHED-TTL:PT1H
BEGIN:VTIMEZONE
TZID:Europe/London
BEGIN:DAYLIGHT
TZOFFSETFROM:+0000
TZOFFSETTO:+0100
TZNAME:BST
DTSTART:20240331T010000
END:DAYLIGHT
BEGIN:STANDARD
TZOFFSETFROM:+0100
TZOFFSETTO:+0000
TZNAME:GMT
DTSTART:20241027T010000
END:STANDARD
BEGIN:DAYLIGHT
TZOFFSETFROM:+0000
TZOFFSETTO:+0100
TZNAME:BST
DTSTART:20250330T010000
END:DAYLIGHT
BEGIN:STANDARD
TZOFFSETFROM:+0100
TZOFFSETTO:+0000
TZNAME:GMT
DTSTART:20251026T010000
END:STANDARD
BEGIN:DAYLIGHT
TZOFFSETFROM:+0000
TZOFFSETTO:+0100
TZNAME:BST
DTSTART:20260329T010000
END:DAYLIGHT
BEGIN:STANDARD
TZOFFSETFROM:+0100
TZOFFSETTO:+0000
TZNAME:GMT
DTSTART:20261025T010000
END:STANDARD
END:VTIMEZONE
BEGIN:VEVENT
DTSTART;TZID=Europe/London:20250520T103000
DTEND;TZID=Europe/London:20250520T120000
DTSTAMP:20260419T151210
CREATED:20250423T185323Z
LAST-MODIFIED:20250423T185757Z
UID:20176-1747737000-1747742400@outside-ideas.com
SUMMARY:Oxford STEM Network
DESCRIPTION:If you run a business or provide support to businesses in any of the STEM sectors\, you are warmly invited to join us at our open meet up. \nNo agenda. Just a chance for leaders to network with peers in science\, technology\, engineering\, mathematics\, and manufacturing. \nDon’t forget to bring along your business cards/electronic profiles/QR codes! \n*Please note this meet-up is being held at a different address (Harwell Innovation Centre\, Didcot\, OX11 0QG) \n 
URL:https://outside-ideas.com/event/oxfordstem-network/
LOCATION:Harwell Innovation Centre\, Didcot\, OX11 0QG\, Harwell Innovation Centre\, Didcot\, Oxfordshire\, OX11 0QG
ATTACH;FMTTYPE=image/avif:https://outside-ideas.com/wp-content/uploads/2025/04/https___cdn.evbuc_.com_images_670587779_1341157904413_1_original.avif
END:VEVENT
BEGIN:VEVENT
DTSTART;TZID=Europe/London:20250612T100000
DTEND;TZID=Europe/London:20250612T150000
DTSTAMP:20260419T151210
CREATED:20250410T170038Z
LAST-MODIFIED:20250410T170120Z
UID:20137-1749722400-1749740400@outside-ideas.com
SUMMARY:HR Essentials Workshop
DESCRIPTION:  \nDate: June 12th \nTime: 10:00 am – 3:00 pm \nLocation: Online\, on Zoom \n\n\n\n  \n\nAbout this event\n\n\n\nIt is important to make sure you understand what HR administration is required for your employees. There are important details and considerations relating to new\, existing\, and exiting employees. \nThis informative and interactive workshop will help you to understand more about general HR principles for your business and deliver your HR responsibilities effectively and in line with your obligations. \nYou will leave the workshop with an understanding of what type of administration is required at each stage of an employee’s journey and how this can help the business. \nWe will cover: \n\nRecruitment\nHoliday\, sickness and other absence\nDisciplinary and Grievance Process\nInducting new starters and probationary periods\nStoring personnel records\nWhat to do at the end of employment\n\nBy the end of the session\, you will understand your key responsibilities and be able to manage important HR processes within the business. \nRegister here.
URL:https://outside-ideas.com/event/hr-essentials-workshop/
LOCATION:Oxfordshire
CATEGORIES:Alliance
ATTACH;FMTTYPE=image/jpeg:https://outside-ideas.com/wp-content/uploads/2025/04/Copy-of-HR-Essential-Skills-Workshop-1.jpg
END:VEVENT
END:VCALENDAR