BEGIN:VCALENDAR
VERSION:2.0
PRODID:-//Outside ideas - ECPv6.15.20//NONSGML v1.0//EN
CALSCALE:GREGORIAN
METHOD:PUBLISH
X-ORIGINAL-URL:https://outside-ideas.com
X-WR-CALDESC:Events for Outside ideas
REFRESH-INTERVAL;VALUE=DURATION:PT1H
X-Robots-Tag:noindex
X-PUBLISHED-TTL:PT1H
BEGIN:VTIMEZONE
TZID:Europe/London
BEGIN:DAYLIGHT
TZOFFSETFROM:+0000
TZOFFSETTO:+0100
TZNAME:BST
DTSTART:20240331T010000
END:DAYLIGHT
BEGIN:STANDARD
TZOFFSETFROM:+0100
TZOFFSETTO:+0000
TZNAME:GMT
DTSTART:20241027T010000
END:STANDARD
BEGIN:DAYLIGHT
TZOFFSETFROM:+0000
TZOFFSETTO:+0100
TZNAME:BST
DTSTART:20250330T010000
END:DAYLIGHT
BEGIN:STANDARD
TZOFFSETFROM:+0100
TZOFFSETTO:+0000
TZNAME:GMT
DTSTART:20251026T010000
END:STANDARD
BEGIN:DAYLIGHT
TZOFFSETFROM:+0000
TZOFFSETTO:+0100
TZNAME:BST
DTSTART:20260329T010000
END:DAYLIGHT
BEGIN:STANDARD
TZOFFSETFROM:+0100
TZOFFSETTO:+0000
TZNAME:GMT
DTSTART:20261025T010000
END:STANDARD
END:VTIMEZONE
BEGIN:VEVENT
DTSTART;TZID=Europe/London:20250305T073000
DTEND;TZID=Europe/London:20250305T090000
DTSTAMP:20260424T111817
CREATED:20250107T075941Z
LAST-MODIFIED:20250107T105516Z
UID:19539-1741159800-1741165200@outside-ideas.com
SUMMARY:Networking-in: The Silent Killer of Small Businesses - Why Cashflow Is Your Lifeline
DESCRIPTION:Networking for Good-Egg Business Owners\n\n\nPrice: £10\nWhen: 5th March 2025\nTime: 07:30-09:00\nWhere: Online \nNetworking-in with Romesh Jeyaseelanayagam |The Silent Killer of Small Businesses: Why Cashflow Is Your Lifeline\nOut of the 60% of businesses that go bust within their first three years\, most fail due to cashflow issues. \nTo manage your cashflow\, you need to understand turnover\, costs\, and\, most importantly\, the difference between cashflow and profit. \nRomesh helps businesses of all sizes\, up to £46 million turnover\, make smarter financial decisions. \nHe is the founder of a Group of Fractional CFO Advisors and the FD Consultant\, which grows start ups\, scale ups\, and SMEs to grow their businesss and raise equity and investment. \nIn this presentation tailored for micro-businesses\, without any technical jargon— he’ll share practical advice to help business owners make better spending decisions. \nYou can only solve a problem if you can anticipate it. Managing the future starts with seeing it coming. \nNetworking in\nWhat works for one person can sometimes be a complete turn-off for another. We looked around at all the other groups\, took the best bits; and did it our way. \nWe believe that the best networking groups are diverse in age\, sex\, race and religion. We also believe that people buy from people; we don’t exclude or have caps / exclusivity within a sector. If you want to win business in our rooms; you’ll win it because of who you are\, what you do\, and how you do it; rather than you being the only option. In our groups\, you’ll have ample opportunity to tell your story\, listen to everyone else’s\, and then have the time to make all the connections you want. \nJOIN US ONLINE ON THE 1ST AND 3RD WEDNESDAY OF THE MONTH AT 7:30AM-9:00AM \nCome for the inspiration\, stay for the connections\, and leave energised! \nIf you love & come regularly to Networking in check out: The Alliance
URL:https://outside-ideas.com/event/networking-event-cashflow-management-for-micro-businesses/
LOCATION:Zoom
CATEGORIES:Alliance,Networking in
ATTACH;FMTTYPE=image/jpeg:https://outside-ideas.com/wp-content/uploads/2025/01/Romesh-Jeyaseelanayagam-.jpg
ORGANIZER;CN="Outside ideas":MAILTO:hello@outside-ideas.com
END:VEVENT
END:VCALENDAR