BEGIN:VCALENDAR
VERSION:2.0
PRODID:-//Outside ideas - ECPv6.15.20//NONSGML v1.0//EN
CALSCALE:GREGORIAN
METHOD:PUBLISH
X-WR-CALNAME:Outside ideas
X-ORIGINAL-URL:https://outside-ideas.com
X-WR-CALDESC:Events for Outside ideas
REFRESH-INTERVAL;VALUE=DURATION:PT1H
X-Robots-Tag:noindex
X-PUBLISHED-TTL:PT1H
BEGIN:VTIMEZONE
TZID:Europe/London
BEGIN:DAYLIGHT
TZOFFSETFROM:+0000
TZOFFSETTO:+0100
TZNAME:BST
DTSTART:20230326T010000
END:DAYLIGHT
BEGIN:STANDARD
TZOFFSETFROM:+0100
TZOFFSETTO:+0000
TZNAME:GMT
DTSTART:20231029T010000
END:STANDARD
BEGIN:DAYLIGHT
TZOFFSETFROM:+0000
TZOFFSETTO:+0100
TZNAME:BST
DTSTART:20240331T010000
END:DAYLIGHT
BEGIN:STANDARD
TZOFFSETFROM:+0100
TZOFFSETTO:+0000
TZNAME:GMT
DTSTART:20241027T010000
END:STANDARD
BEGIN:DAYLIGHT
TZOFFSETFROM:+0000
TZOFFSETTO:+0100
TZNAME:BST
DTSTART:20250330T010000
END:DAYLIGHT
BEGIN:STANDARD
TZOFFSETFROM:+0100
TZOFFSETTO:+0000
TZNAME:GMT
DTSTART:20251026T010000
END:STANDARD
END:VTIMEZONE
BEGIN:VEVENT
DTSTART;TZID=Europe/London:20241213T110000
DTEND;TZID=Europe/London:20241213T143000
DTSTAMP:20260424T155659
CREATED:20241108T144449Z
LAST-MODIFIED:20241108T145457Z
UID:19250-1734087600-1734100200@outside-ideas.com
SUMMARY:The Alliance Christmas Lunch 🎄
DESCRIPTION:Alliance Christmas Lunch 🎄\n Date: 13th December\n Time: 11am – 2pm\n Venue: The Crown\, Aldbourne Visit The Crown\n Price: £51.70 per person (includes a wonderful 3-course meal and 2 drinks\, plus 10% service charge) \n Dietary Requirements: Please inform us of any dietary needs or allergies in advance by emailing Sarah. \n\n What to Expect:\nCelebrate the festive season with us at the Alliance Christmas Lunch! Enjoy a delicious 3-course meal in a relaxed setting with the Outside Ideas Networking community. This isn’t just about business – it’s about good food\, great company\, and getting into the holiday spirit. \n Lunch: We’ll start with a welcome at 11am\, then sit down to a tasty 3-course meal\, complete with menu choices sent out in advance.\n Drinks Included: Your ticket includes two drinks – perfect to toast the festive season!\n Good Company & Conversation: While there will be time for networking\, this is more about celebrating the season and connecting on a more personal level. \n\n Important Information:\n\n Service Charge: A 10% service charge is included in the price\, so no need to worry about tipping.\n Not-for-Profit Event: All funds go directly to The Crown; we’re simply facilitating the booking and handling the bill.\n Parking: Free parking is available at The Crown.\n Dress Code: Smart casual – festive jumpers optional!\n\n\nIf you have any questions or want to share dietary requirements\, please contact Sarah on ops@outside-ideas.com. \n We look forward to celebrating with you!
URL:https://outside-ideas.com/event/the-alliance-christmas-lunch-%f0%9f%8e%84/
LOCATION:The Crown at Aldbourne\, The Crown 2 The Square Aldbourne\, Marlborough\, Wiltshire\, SN8 2DU\, United Kingdom
CATEGORIES:Alliance,Networking in
ATTACH;FMTTYPE=image/jpeg:https://outside-ideas.com/wp-content/uploads/2024/11/LinkedIn-event-dimensions.jpg
ORGANIZER;CN="Outside ideas":MAILTO:hello@outside-ideas.com
END:VEVENT
END:VCALENDAR