BEGIN:VCALENDAR
VERSION:2.0
PRODID:-//Outside ideas - ECPv6.15.20//NONSGML v1.0//EN
CALSCALE:GREGORIAN
METHOD:PUBLISH
X-WR-CALNAME:Outside ideas
X-ORIGINAL-URL:https://outside-ideas.com
X-WR-CALDESC:Events for Outside ideas
REFRESH-INTERVAL;VALUE=DURATION:PT1H
X-Robots-Tag:noindex
X-PUBLISHED-TTL:PT1H
BEGIN:VTIMEZONE
TZID:Europe/London
BEGIN:DAYLIGHT
TZOFFSETFROM:+0000
TZOFFSETTO:+0100
TZNAME:BST
DTSTART:20230326T010000
END:DAYLIGHT
BEGIN:STANDARD
TZOFFSETFROM:+0100
TZOFFSETTO:+0000
TZNAME:GMT
DTSTART:20231029T010000
END:STANDARD
BEGIN:DAYLIGHT
TZOFFSETFROM:+0000
TZOFFSETTO:+0100
TZNAME:BST
DTSTART:20240331T010000
END:DAYLIGHT
BEGIN:STANDARD
TZOFFSETFROM:+0100
TZOFFSETTO:+0000
TZNAME:GMT
DTSTART:20241027T010000
END:STANDARD
BEGIN:DAYLIGHT
TZOFFSETFROM:+0000
TZOFFSETTO:+0100
TZNAME:BST
DTSTART:20250330T010000
END:DAYLIGHT
BEGIN:STANDARD
TZOFFSETFROM:+0100
TZOFFSETTO:+0000
TZNAME:GMT
DTSTART:20251026T010000
END:STANDARD
END:VTIMEZONE
BEGIN:VEVENT
DTSTART;TZID=Europe/London:20241114T100000
DTEND;TZID=Europe/London:20241114T140000
DTSTAMP:20260424T172853
CREATED:20240627T111503Z
LAST-MODIFIED:20240704T112723Z
UID:18040-1731578400-1731592800@outside-ideas.com
SUMMARY:Birmingham Business Expo
DESCRIPTION:Birmingham Business Expo 2024\n\nDate: Thursday 14th November 2024 \nTime: 10:00 am – 2:00 pm \n\nLocation: St Andrew’s Stadium\, Birmingham \n\n\nEvent Overview\n\nJoin hundreds of local businesses at the Birmingham Business Expo which is taking place on Thursday 14th November 2024 at St Andrew’s Stadium\, home of Birmingham City Football Club. \nEnjoy the opportunity to openly network with 300-400 attendees from across the Midlands at Birmingham’s largest business show\, whilst exploring the exhibition packed with a variety of local exhibitors showcasing their services and promoting their latest products. \nAs well as a busy exhibition\, there will also be free seminars and workshops from the Midlands leading keynote and business speakers as well as a speed networking session. \n\nVenue Information\n\nThis event will be taking place at the at St Andrew’s Stadium. The stadium has over 250 onsite car parking spaces and additional overflow parking can be located at the retail park across the road (see signage for details). You can park at the retail park for FREE for up to 3 hours. Please head to the main stadium reception. The business expo is located on the 1st and 2nd floors. \n\nHow To Get There\n\nSt Andrew’s Stadium is easily accessible by car and public transport including buses. St. Andrew’s Stadium lies just off the A45\, which connects with the M42 in the east and the M38/M6 in the North. \n\nPre-register online!
URL:https://outside-ideas.com/event/birmingham-business-expo/
LOCATION:St Andrew’s Stadium\, Birmingham
CATEGORIES:Alliance,Networking in
ATTACH;FMTTYPE=image/png:https://outside-ideas.com/wp-content/uploads/2024/06/Peter-Mols-at-Birmingham-Business-Expo-2.png
END:VEVENT
END:VCALENDAR