BEGIN:VCALENDAR
VERSION:2.0
PRODID:-//Outside ideas - ECPv6.15.20//NONSGML v1.0//EN
CALSCALE:GREGORIAN
METHOD:PUBLISH
X-ORIGINAL-URL:https://outside-ideas.com
X-WR-CALDESC:Events for Outside ideas
REFRESH-INTERVAL;VALUE=DURATION:PT1H
X-Robots-Tag:noindex
X-PUBLISHED-TTL:PT1H
BEGIN:VTIMEZONE
TZID:Europe/London
BEGIN:DAYLIGHT
TZOFFSETFROM:+0000
TZOFFSETTO:+0100
TZNAME:BST
DTSTART:20230326T010000
END:DAYLIGHT
BEGIN:STANDARD
TZOFFSETFROM:+0100
TZOFFSETTO:+0000
TZNAME:GMT
DTSTART:20231029T010000
END:STANDARD
BEGIN:DAYLIGHT
TZOFFSETFROM:+0000
TZOFFSETTO:+0100
TZNAME:BST
DTSTART:20240331T010000
END:DAYLIGHT
BEGIN:STANDARD
TZOFFSETFROM:+0100
TZOFFSETTO:+0000
TZNAME:GMT
DTSTART:20241027T010000
END:STANDARD
BEGIN:DAYLIGHT
TZOFFSETFROM:+0000
TZOFFSETTO:+0100
TZNAME:BST
DTSTART:20250330T010000
END:DAYLIGHT
BEGIN:STANDARD
TZOFFSETFROM:+0100
TZOFFSETTO:+0000
TZNAME:GMT
DTSTART:20251026T010000
END:STANDARD
END:VTIMEZONE
BEGIN:VEVENT
DTSTART;TZID=Europe/London:20241106T073000
DTEND;TZID=Europe/London:20241106T090000
DTSTAMP:20260424T173908
CREATED:20241008T110857Z
LAST-MODIFIED:20241016T104901Z
UID:18935-1730878200-1730883600@outside-ideas.com
SUMMARY:Networking in: Unlocking Self Sabotage
DESCRIPTION:Networking for Good-Egg Business Owners\nPrice: £10\nWhen: 6th November 2024 \nTime: 07:30-09:00\nWhere: Online \nNetworking-in with Dr Phil Agrios | Unlocking Self Sabotage\nWhat if I told you there’s a hidden trait inside you\, quietly sabotaging your success? \nWe all have one – it’s been protecting you\, keeping you safe from something your mind thinks is too painful to face: real success. \nImagine if you could turn that trait off\, just like that. How different would your business and your life be if nothing held you back anymore? \nYou might be the greatest business owner\, but as long as you still have those lingering doubts\, your success will be much slower than you wish. \nWe’re bringing Dr. Philip Agrios to Networking-in on 6th November\, and he’ll be telling us how to identify your inborn sabotaging trait and switch it off so that you can chase your dreams fearlessly. \nOur networking format will allow you to not only interact with other business owners but also create meaningful connections which are essential for your growth. \nNetworking in\nWhat works for one person can sometimes be a complete turn-off for another. We looked around at all the other groups\, took the best bits; and did it our way. \nWe believe that the best networking groups are diverse in age\, sex\, race and religion. We also believe that people buy from people; we don’t exclude or have caps / exclusivity within a sector. If you want to win business in our rooms; you’ll win it because of who you are\, what you do\, and how you do it; rather than you being the only option. In our groups\, you’ll have ample opportunity to tell your story\, listen to everyone else’s\, and then have the time to make all the connections you want. \nJOIN US ONLINE ON THE 1ST AND 3RD WEDNESDAY OF THE MONTH AT 7:30AM-9:00AM \nCome for the inspiration\, stay for the connections\, and leave energised! \nIf you love & come regularly to Networking in check out:  The Alliance
URL:https://outside-ideas.com/event/unlocking-self-sabotage/
LOCATION:online
CATEGORIES:Networking in
ATTACH;FMTTYPE=image/jpeg:https://outside-ideas.com/wp-content/uploads/2024/10/Dr-Phil-Agrios.jpg
ORGANIZER;CN="Outside ideas":MAILTO:hello@outside-ideas.com
END:VEVENT
END:VCALENDAR