BEGIN:VCALENDAR
VERSION:2.0
PRODID:-//Outside ideas - ECPv6.15.20//NONSGML v1.0//EN
CALSCALE:GREGORIAN
METHOD:PUBLISH
X-ORIGINAL-URL:https://outside-ideas.com
X-WR-CALDESC:Events for Outside ideas
REFRESH-INTERVAL;VALUE=DURATION:PT1H
X-Robots-Tag:noindex
X-PUBLISHED-TTL:PT1H
BEGIN:VTIMEZONE
TZID:Europe/London
BEGIN:DAYLIGHT
TZOFFSETFROM:+0000
TZOFFSETTO:+0100
TZNAME:BST
DTSTART:20240331T010000
END:DAYLIGHT
BEGIN:STANDARD
TZOFFSETFROM:+0100
TZOFFSETTO:+0000
TZNAME:GMT
DTSTART:20241027T010000
END:STANDARD
BEGIN:DAYLIGHT
TZOFFSETFROM:+0000
TZOFFSETTO:+0100
TZNAME:BST
DTSTART:20250330T010000
END:DAYLIGHT
BEGIN:STANDARD
TZOFFSETFROM:+0100
TZOFFSETTO:+0000
TZNAME:GMT
DTSTART:20251026T010000
END:STANDARD
BEGIN:DAYLIGHT
TZOFFSETFROM:+0000
TZOFFSETTO:+0100
TZNAME:BST
DTSTART:20260329T010000
END:DAYLIGHT
BEGIN:STANDARD
TZOFFSETFROM:+0100
TZOFFSETTO:+0000
TZNAME:GMT
DTSTART:20261025T010000
END:STANDARD
END:VTIMEZONE
BEGIN:VEVENT
DTSTART;TZID=Europe/London:20250402T073000
DTEND;TZID=Europe/London:20250402T090000
DTSTAMP:20260420T140726
CREATED:20250211T142128Z
LAST-MODIFIED:20250212T085655Z
UID:19819-1743579000-1743584400@outside-ideas.com
SUMMARY:Networking-in: Watertight Marketing - The Proven Process for Seriously Scalable Sales
DESCRIPTION:Networking for Good-Egg Business Owners\n\n\nPrice: £10\nWhen: 2nd April 2025\nTime: 07:30-09:00 (BST)\nWhere: Online \nNetworking-in with Bryony Thomas | Watertight Marketing – The Proven Process for Seriously Scalable Sales\nWe’re absolutely thrilled to welcome Bryony Thomas\, an award-winning speaker and the brilliant mind behind Watertight Marketing! \nIf you’ve spoken to our co-founder Pete in the last few years\, there’s a 99% chance that you’ve heard him rave about her – because what she teaches actually works. \nEver feel like you’re doing all the marketing things but still losing leads somewhere along the way? \nMaybe people show interest but never quite convert? \nOr worse\, they sign up\, then disappear? \nYep\, we’ve been there. \nOur whole team read Bryony’s book\, put her strategies into action\, and saw real results. \nIn this session\, she’ll show you how to plug the leaks in your marketing so the effort you put in actually leads to customers sticking around. \nIf that sounds like something you need\, don’t miss this! \nNetworking in\nWhat works for one person can sometimes be a complete turn-off for another. We looked around at all the other groups\, took the best bits; and did it our way. \nWe believe that the best networking groups are diverse in age\, sex\, race and religion. We also believe that people buy from people; we don’t exclude or have caps / exclusivity within a sector. If you want to win business in our rooms; you’ll win it because of who you are\, what you do\, and how you do it; rather than you being the only option. In our groups\, you’ll have ample opportunity to tell your story\, listen to everyone else’s\, and then have the time to make all the connections you want. \nJOIN US ONLINE ON THE 1ST AND 3RD WEDNESDAY OF THE MONTH AT 7:30AM-9:00AM \nCome for the inspiration\, stay for the connections\, and leave energised! \nIf you love & come regularly to Networking in check out: The Alliance
URL:https://outside-ideas.com/event/watertight-marketing-business-owners/
LOCATION:Zoom
CATEGORIES:Alliance,Networking in
ATTACH;FMTTYPE=image/jpeg:https://outside-ideas.com/wp-content/uploads/2025/02/bryonny-.jpg
ORGANIZER;CN="Outside ideas":MAILTO:hello@outside-ideas.com
END:VEVENT
BEGIN:VEVENT
DTSTART;TZID=Europe/London:20250416T073000
DTEND;TZID=Europe/London:20250416T090000
DTSTAMP:20260420T140726
CREATED:20250401T094337Z
LAST-MODIFIED:20250402T103530Z
UID:20091-1744788600-1744794000@outside-ideas.com
SUMMARY:Networking-in: Unlock Your Creative Flow - Productivity Hacks for Unconventional Thinkers
DESCRIPTION:Networking for Good-Egg Business Owners\n\n\nPrice: £10\nWhen: 16th April 2025\nTime: 07:30-09:00 (BST)\nWhere: Online \nNetworking-in with Chris Marsh | Unlock Your Creative Flow: Productivity Hacks for Unconventional Thinkers\nWhat if your best ideas were born when you were doing absolutely nothing? \nSounds mad\, right? But the truth is\, creativity often strikes when you least expect it. Those moments away from your desk\, where it feels like you’re doing nothing\, can actually be your most productive. \nJoin Chris as he pulls back the curtain on how unconventional thinkers – especially those with neurodiverse brains – have cracked the code on unlocking creativity and productivity in a completely different way. \nIn this session\, you’ll discover: \nWhy procrastination might be your secret weapon\, and how to use it to get more done than ever. \nHow to smash through the mental blocks that are killing your flow\, and finally get into the zone. \nThe art of doing less but achieving more\, because working smarter always beats working harder. \nHow to balance business and well-being\, and why looking after yourself is the smartest business decision you can make. \nIt’s time to break the rules and make your business work for you. Forget the hustle culture. Instead\, learn how to unlock your best ideas without burning out. It’s all about getting laser-focused\, cutting through the noise\, and making real\, meaningful connections that actually grow your business. \nDon’t miss out let’s do less\, but achieve more. \nNetworking in\nWhat works for one person can sometimes be a complete turn-off for another. We looked around at all the other groups\, took the best bits; and did it our way. \nWe believe that the best networking groups are diverse in age\, sex\, race and religion. We also believe that people buy from people; we don’t exclude or have caps / exclusivity within a sector. If you want to win business in our rooms; you’ll win it because of who you are\, what you do\, and how you do it; rather than you being the only option. In our groups\, you’ll have ample opportunity to tell your story\, listen to everyone else’s\, and then have the time to make all the connections you want. \nJOIN US ONLINE ON THE 1ST AND 3RD WEDNESDAY OF THE MONTH AT 7:30AM-9:00AM \nCome for the inspiration\, stay for the connections\, and leave energised! \nIf you love & come regularly to Networking in check out: The Alliance
URL:https://outside-ideas.com/event/unlock-creativity-productivity-masterclass/
LOCATION:Zoom
CATEGORIES:Alliance,Networking in
ATTACH;FMTTYPE=image/jpeg:https://outside-ideas.com/wp-content/uploads/2025/04/Chris-March-website-.jpg
ORGANIZER;CN="Outside ideas":MAILTO:hello@outside-ideas.com
END:VEVENT
END:VCALENDAR