BEGIN:VCALENDAR
VERSION:2.0
PRODID:-//Outside ideas - ECPv6.15.20//NONSGML v1.0//EN
CALSCALE:GREGORIAN
METHOD:PUBLISH
X-ORIGINAL-URL:https://outside-ideas.com
X-WR-CALDESC:Events for Outside ideas
REFRESH-INTERVAL;VALUE=DURATION:PT1H
X-Robots-Tag:noindex
X-PUBLISHED-TTL:PT1H
BEGIN:VTIMEZONE
TZID:Europe/London
BEGIN:DAYLIGHT
TZOFFSETFROM:+0000
TZOFFSETTO:+0100
TZNAME:BST
DTSTART:20240331T010000
END:DAYLIGHT
BEGIN:STANDARD
TZOFFSETFROM:+0100
TZOFFSETTO:+0000
TZNAME:GMT
DTSTART:20241027T010000
END:STANDARD
BEGIN:DAYLIGHT
TZOFFSETFROM:+0000
TZOFFSETTO:+0100
TZNAME:BST
DTSTART:20250330T010000
END:DAYLIGHT
BEGIN:STANDARD
TZOFFSETFROM:+0100
TZOFFSETTO:+0000
TZNAME:GMT
DTSTART:20251026T010000
END:STANDARD
BEGIN:DAYLIGHT
TZOFFSETFROM:+0000
TZOFFSETTO:+0100
TZNAME:BST
DTSTART:20260329T010000
END:DAYLIGHT
BEGIN:STANDARD
TZOFFSETFROM:+0100
TZOFFSETTO:+0000
TZNAME:GMT
DTSTART:20261025T010000
END:STANDARD
END:VTIMEZONE
BEGIN:VEVENT
DTSTART;TZID=Europe/London:20250115T073000
DTEND;TZID=Europe/London:20250115T090000
DTSTAMP:20260424T124823
CREATED:20241204T154035Z
LAST-MODIFIED:20241205T063931Z
UID:19454-1736926200-1736931600@outside-ideas.com
SUMMARY:Networking-in: Tools to Level Up Your Business Game
DESCRIPTION:Networking for Good-Egg Business Owners\n\n\nPrice: £10\nWhen: 15th January 2025\nTime: 07:30-09:00\nWhere: Online \nNetworking-in with Sarah Mols | Small but Mighty: Tools to Level Up Your Business Game\nRunning a small business is no small feat—you’re wearing all the hats\, juggling all the tasks\, and trying to compete in a world dominated by bigger players with bigger teams. It’s exhausting. But here’s the thing: you don’t need a huge team or a massive budget to punch above your weight. \nIn this session\, Small but Mighty: Tools to Level Up Your Business Game\, I’ll show you how to work smarter\, not harder\, using simple\, effective tools and techniques to streamline your operations\, save time\, and look like you’ve got an army working behind the scenes. \nWe’ll cover the key systems and automations that can take tedious\, repetitive tasks off your plate\, boost your professional image\, and make it easier to focus on growing your business. \nWhether you want to free up your day\, improve customer experience\, or impress potential clients\, there’s something here for you. \nBy the end\, you’ll leave with practical tips and tools you can implement straight away to level up your business game—because being small doesn’t mean you can’t be mighty. \nNetworking in\nWhat works for one person can sometimes be a complete turn-off for another. We looked around at all the other groups\, took the best bits; and did it our way. \nWe believe that the best networking groups are diverse in age\, sex\, race and religion. We also believe that people buy from people; we don’t exclude or have caps / exclusivity within a sector. If you want to win business in our rooms; you’ll win it because of who you are\, what you do\, and how you do it; rather than you being the only option. In our groups\, you’ll have ample opportunity to tell your story\, listen to everyone else’s\, and then have the time to make all the connections you want. \nJOIN US ONLINE ON THE 1ST AND 3RD WEDNESDAY OF THE MONTH AT 7:30AM-9:00AM \nCome for the inspiration\, stay for the connections\, and leave energised! \nIf you love & come regularly to Networking in check out: The Alliance
URL:https://outside-ideas.com/event/networking-in-tools-to-level-up-your-business-game/
LOCATION:Zoom
CATEGORIES:Alliance,Networking in
ATTACH;FMTTYPE=image/jpeg:https://outside-ideas.com/wp-content/uploads/2024/12/Sarah-Mols-NI.jpg
END:VEVENT
END:VCALENDAR