BEGIN:VCALENDAR
VERSION:2.0
PRODID:-//Outside ideas - ECPv6.15.20//NONSGML v1.0//EN
CALSCALE:GREGORIAN
METHOD:PUBLISH
X-ORIGINAL-URL:https://outside-ideas.com
X-WR-CALDESC:Events for Outside ideas
REFRESH-INTERVAL;VALUE=DURATION:PT1H
X-Robots-Tag:noindex
X-PUBLISHED-TTL:PT1H
BEGIN:VTIMEZONE
TZID:Europe/London
BEGIN:DAYLIGHT
TZOFFSETFROM:+0000
TZOFFSETTO:+0100
TZNAME:BST
DTSTART:20230326T010000
END:DAYLIGHT
BEGIN:STANDARD
TZOFFSETFROM:+0100
TZOFFSETTO:+0000
TZNAME:GMT
DTSTART:20231029T010000
END:STANDARD
BEGIN:DAYLIGHT
TZOFFSETFROM:+0000
TZOFFSETTO:+0100
TZNAME:BST
DTSTART:20240331T010000
END:DAYLIGHT
BEGIN:STANDARD
TZOFFSETFROM:+0100
TZOFFSETTO:+0000
TZNAME:GMT
DTSTART:20241027T010000
END:STANDARD
BEGIN:DAYLIGHT
TZOFFSETFROM:+0000
TZOFFSETTO:+0100
TZNAME:BST
DTSTART:20250330T010000
END:DAYLIGHT
BEGIN:STANDARD
TZOFFSETFROM:+0100
TZOFFSETTO:+0000
TZNAME:GMT
DTSTART:20251026T010000
END:STANDARD
END:VTIMEZONE
BEGIN:VEVENT
DTSTART;TZID=Europe/London:20241002T073000
DTEND;TZID=Europe/London:20241002T090000
DTSTAMP:20260424T172806
CREATED:20240918T143355Z
LAST-MODIFIED:20240919T125055Z
UID:18791-1727854200-1727859600@outside-ideas.com
SUMMARY:Networking in: Sell Without Being Salesy
DESCRIPTION:Networking for Good-Egg Business Owners\nPrice: £10\nWhen: 2nd October 2024 \nTime: 07:30-09:00\nWhere: Online \nNetworking-in with Martin Knowles | Sell Without Being Salesy\nUp next at Networking-in\, we’re bringing on the sales genius – Martin Knowles! \nMartin’s story is profound. He became a salesman accidentally when his cushy “graduate trainee” position morphed into a proper job where he was supposed to deliver sales numbers and ensure they were paid on time. Interesting right? Fast forward 20+ years\, and this accidental salesman has blossomed into a full-blown business mogul with minions of his own. \nNow\, Martin’s ready to spill the tea on how to turn those cold leads into hot sales. He’ll tell us all bout promoting your business without looking pushy\, and dealing with the root cause of sales under-performance. \nJoin us for a morning of inspiring conversations\, incredible fun\, and a chance to create meaningful conversations. \nBook Your Spot\nAlliance Members Book Here  \nNon-members Book Here \n  \nNetworking in\nWhat works for one person can sometimes be a complete turn-off for another. We looked around at all the other groups\, took the best bits; and did it our way. \nWe believe that the best networking groups are diverse in age\, sex\, race and religion. We also believe that people buy from people; we don’t exclude or have caps / exclusivity within a sector. If you want to win business in our rooms; you’ll win it because of who you are\, what you do\, and how you do it; rather than you being the only option. In our groups\, you’ll have ample opportunity to tell your story\, listen to everyone else’s\, and then have the time to make all the connections you want. \nJOIN US ONLINE ON THE 1ST AND 3RD WEDNESDAY OF THE MONTH AT 7:30AM-9:00AM \nCome for the inspiration\, stay for the connections\, and leave energised! \nIf you love & come regularly to Networking in check out:  The Alliance
URL:https://outside-ideas.com/event/sell-without-being-salesy/
LOCATION:online
CATEGORIES:Networking in
ATTACH;FMTTYPE=image/jpeg:https://outside-ideas.com/wp-content/uploads/2024/09/Martin-Knowles-2.jpg
ORGANIZER;CN="Outside ideas":MAILTO:hello@outside-ideas.com
END:VEVENT
BEGIN:VEVENT
DTSTART;TZID=Europe/London:20241016T073000
DTEND;TZID=Europe/London:20241016T090000
DTSTAMP:20260424T172806
CREATED:20240923T124208Z
LAST-MODIFIED:20240923T124544Z
UID:18870-1729063800-1729069200@outside-ideas.com
SUMMARY:Networking-in: Building Successful Company Cultures
DESCRIPTION:Networking for Good-Egg Business Owners\nPrice: £10\nWhen: 16th October 2024 \nTime: 07:30-09:00\nWhere: Online \nNetworking-in with Gemma Hood | Culturehood\nOn 16th October\, we welcome Gemma Hood to the stage as the guest speaker. She’ll be telling us all about Building successful company cultures. As the CEO and Founder of Culturehood\, she works alongside some brilliant ambitious leaders to design and deliver engaging people strategies that attract\, engage and retain top talent. \nShe’ll be telling us how to build and foster a ‘sticky’ culture\, ultimately saving you time and costly errors. \nNetworking in\nWhat works for one person can sometimes be a complete turn-off for another. We looked around at all the other groups\, took the best bits; and did it our way. \nWe believe that the best networking groups are diverse in age\, sex\, race and religion. We also believe that people buy from people; we don’t exclude or have caps / exclusivity within a sector. If you want to win business in our rooms; you’ll win it because of who you are\, what you do\, and how you do it; rather than you being the only option. In our groups\, you’ll have ample opportunity to tell your story\, listen to everyone else’s\, and then have the time to make all the connections you want. \nJOIN US ONLINE ON THE 1ST AND 3RD WEDNESDAY OF THE MONTH AT 7:30AM-9:00AM \nCome for the inspiration\, stay for the connections\, and leave energised! \nIf you love & come regularly to Networking in check out: The Alliance
URL:https://outside-ideas.com/event/networking-in-building-successful-company-cultures/
LOCATION:Zoom
CATEGORIES:Alliance,Networking in
ATTACH;FMTTYPE=image/jpeg:https://outside-ideas.com/wp-content/uploads/2024/09/WIDE-Networking-In.-Single-Events-1-1.jpg
END:VEVENT
END:VCALENDAR