BEGIN:VCALENDAR
VERSION:2.0
PRODID:-//Outside ideas - ECPv6.15.20//NONSGML v1.0//EN
CALSCALE:GREGORIAN
METHOD:PUBLISH
X-WR-CALNAME:Outside ideas
X-ORIGINAL-URL:https://outside-ideas.com
X-WR-CALDESC:Events for Outside ideas
REFRESH-INTERVAL;VALUE=DURATION:PT1H
X-Robots-Tag:noindex
X-PUBLISHED-TTL:PT1H
BEGIN:VTIMEZONE
TZID:Europe/London
BEGIN:DAYLIGHT
TZOFFSETFROM:+0000
TZOFFSETTO:+0100
TZNAME:BST
DTSTART:20230326T010000
END:DAYLIGHT
BEGIN:STANDARD
TZOFFSETFROM:+0100
TZOFFSETTO:+0000
TZNAME:GMT
DTSTART:20231029T010000
END:STANDARD
BEGIN:DAYLIGHT
TZOFFSETFROM:+0000
TZOFFSETTO:+0100
TZNAME:BST
DTSTART:20240331T010000
END:DAYLIGHT
BEGIN:STANDARD
TZOFFSETFROM:+0100
TZOFFSETTO:+0000
TZNAME:GMT
DTSTART:20241027T010000
END:STANDARD
BEGIN:DAYLIGHT
TZOFFSETFROM:+0000
TZOFFSETTO:+0100
TZNAME:BST
DTSTART:20250330T010000
END:DAYLIGHT
BEGIN:STANDARD
TZOFFSETFROM:+0100
TZOFFSETTO:+0000
TZNAME:GMT
DTSTART:20251026T010000
END:STANDARD
END:VTIMEZONE
BEGIN:VEVENT
DTSTART;TZID=Europe/London:20240904T073000
DTEND;TZID=Europe/London:20240904T090000
DTSTAMP:20260424T184632
CREATED:20240820T085232Z
LAST-MODIFIED:20240823T134146Z
UID:18384-1725435000-1725440400@outside-ideas.com
SUMMARY:Networking in: 4Cs of Networking
DESCRIPTION:Networking for Good-Egg Business Owners\nPrice: £10\nWhen: 4th September 2024 \nTime: 07:30-09:00\nWhere: Online \nNetworking-in with Dr. Oudi Abouchacra | 4Cs of Networking\nIn this session\, you’ll learn how to turn every handshake into a steady stream of referrals. \nDr. Oudi Abouchacra is a powerhouse of performance magic and an Amazon best-selling author. As the founder of Inspired Results®\, he’s been transforming professionals’ lives with his signature blend of wisdom and wit for over 20 years. Whether he’s cracking the code on team dynamics\, banishing business fears\, or turning handshakes into goldmines of referrals\, Dr. Oudi’s got the tools to make your ROI skyrocket. \nNetworking in\nWhat works for one person can sometimes be a complete turn-off for another. We looked around at all the other groups\, took the best bits; and did it our way. \nWe believe that the best networking groups are diverse in age\, sex\, race and religion. We also believe that people buy from people; we don’t exclude or have caps / exclusivity within a sector. If you want to win business in our rooms; you’ll win it because of who you are\, what you do\, and how you do it; rather than you being the only option. In our groups\, you’ll have ample opportunity to tell your story\, listen to everyone else’s\, and then have the time to make all the connections you want. \nJOIN US ONLINE ON THE 1ST AND 3RD WEDNESDAY OF THE MONTH AT 7:30AM-9:00AM \nNot all business networking was created equal and we think you’ll find our events quite special \nIf you love & come regularly to Networking in check out inThe Alliance
URL:https://outside-ideas.com/event/4cs-of-networking/
LOCATION:online
CATEGORIES:Networking in
ATTACH;FMTTYPE=image/png:https://outside-ideas.com/wp-content/uploads/2024/08/Emma-Canter-2.png
ORGANIZER;CN="Outside ideas":MAILTO:hello@outside-ideas.com
END:VEVENT
BEGIN:VEVENT
DTSTART;TZID=Europe/London:20240918T073000
DTEND;TZID=Europe/London:20240918T090000
DTSTAMP:20260424T184632
CREATED:20240820T090222Z
LAST-MODIFIED:20240821T103803Z
UID:18389-1726644600-1726650000@outside-ideas.com
SUMMARY:Networking in: The Power Of Nature
DESCRIPTION:Networking for Good-Egg Business Owners\nPrice: £10\nWhen: 18th September 2024 \nTime: 07:30-09:00\nWhere: Online \nNetworking-in with Oliver Bolton | The Power Of Nature\nThe CEO of Earthly is coming to Networking-in! \nOliver Bolton leads a passionate\, impact-led team who are empowering hundreds of businesses around the world to reverse climate breakdown and restore our planet. \nHis company\, Earthly\, was a winner of the COP27 ClimaTech prize\, a winner in Uplink’s 2023 NatureTech prize and named 2023 start-up of the year at Retail Week Live. \nBefore Earthly he founded Europe’s first B-Corp health drinks company Waterbomb\, which was the winner of the $3M Virgin VOOM award from Sir Richard Branson and he co-founded the UK’s leading nutrition platform Vitl.com. \nHe’ll be coming to Networking-in to tell us all about ‘The Power of Nature.’ \nNetworking in\nWhat works for one person can sometimes be a complete turn-off for another. We looked around at all the other groups\, took the best bits; and did it our way. \nWe believe that the best networking groups are diverse in age\, sex\, race and religion. We also believe that people buy from people; we don’t exclude or have caps / exclusivity within a sector. If you want to win business in our rooms; you’ll win it because of who you are\, what you do\, and how you do it; rather than you being the only option. In our groups\, you’ll have ample opportunity to tell your story\, listen to everyone else’s\, and then have the time to make all the connections you want. \nJOIN US ONLINE ON THE 1ST AND 3RD WEDNESDAY OF THE MONTH AT 7:30AM-9:00AM \nCome for the inspiration\, stay for the connections\, and leave energised! \nIf you love & come regularly to Networking in check out inThe Alliance
URL:https://outside-ideas.com/event/the-power-of-nature/
LOCATION:online
CATEGORIES:Networking in
ATTACH;FMTTYPE=image/png:https://outside-ideas.com/wp-content/uploads/2024/08/Oliver-Bolton-1.png
ORGANIZER;CN="Outside ideas":MAILTO:hello@outside-ideas.com
END:VEVENT
BEGIN:VEVENT
DTSTART;TZID=Europe/London:20240926T110000
DTEND;TZID=Europe/London:20240926T120000
DTSTAMP:20260424T184632
CREATED:20240624T132820Z
LAST-MODIFIED:20240625T102442Z
UID:18027-1727348400-1727352000@outside-ideas.com
SUMMARY:Network Like a Pro
DESCRIPTION:Peter Mols – Network Like A Pro\nDate: Thursday 26th September 2024\nTime: 11:20am – 11:40am\nLocation: Seminar Room – Greenpark Conference Centre\nEvent Overview\nMulti Award-Winning Business Networker Peter Mols will help you uncover the seven golden rules of Networking. Peter has been attending Networking events for over 20 years\, and his own Networking group recently celebrated its 6th birthday. Join him on a fun and informative journey to become a better networker and win more business. \nSpeaker Bio\nI’m a RAVING FAN of people and businesses that deserve it.\nA family man\, a lover of nature\, the outdoors\, nice food and international adventures. I have a passion for entrepreneurship\, spotting opportunities\, dreaming big & connecting with great people. \nWith my wife Sarah\, I run several businesses that are all aimed at helping people and businesses grow. \n\nNetworking in… is a (predominantly online) Networking group that meets on the first and third Wednesdays of the month. It’s fun\, friendly and relaxed.\nMastermind9 – Aimed at (and priced squarely for) Solo – preneurs and microbusiness owners. We bring 9 non-competing and diverse business owners together once a month to form a Mastermind group. It’s like a board of directors for your small business.\nOutside ideas – I work 121 with business owners who juggle life’s adventures with the excitement and challenge of running a great business.\n\nI’m an active member of numerous other local organisations and am always looking for great strategic partners. I’m a really friendly guy interested in business\, success and being a great parent; contact me if you’d like to chew the fat on any of those subjects. We have a weekly email that drops at 06:00 every Friday that is full of tips\, advice and support to help you grow your small business. \nYou can join our gang at www.outside-ideas.com/subscribe \nWhen & Where\nJoin Peter Mols at the Reading Business Expo taking place on Thursday 26th September 2024 at Green Park Conference Centre between 11:20am – and 11:40am in the seminar room. The expo is completely free to attend and you can simply turn up for this session. \nRegister for FREE tickets
URL:https://outside-ideas.com/event/network-like-a-pro/
LOCATION:Greenpark Conference Centre
CATEGORIES:Alliance,Networking in
ATTACH;FMTTYPE=image/png:https://outside-ideas.com/wp-content/uploads/2024/06/WIDE-Networking-In.-Single-Events.png
END:VEVENT
END:VCALENDAR